BEGIN:VCALENDAR
VERSION:2.0
PRODID:-//eventon.com NONSGML v1.0//EN
CALSCALE:GREGORIAN
METHOD:PUBLISH
BEGIN:VEVENT
UID:69e4ea1fcbbf3
DTSTAMP:20260419T144343Z
DTSTART:20250120T200000Z
DTEND:20250125T040000Z
LOCATION:
SUMMARY:BRITISH BUTLER INSTITUTE TRAINING (5-DAY)
DESCRIPTION:The British Butler Institute has been recognized as the leader 
 in Butler and Hospitality Training Worldwide. The British Butler Institute 
 International School is a London UK UK-based institute that equips the hosp
 itality professional with the latest skills required to meet and surpass ne
 w International Standards. Established in 1997 and represented[..]\nhttps:/
 /www.davincitraininginstitute.com/events/british-butler-institute-training-
 5-day-january-20-24/
URL:https://www.davincitraininginstitute.com/events/british-butler-institute-training-5-day-january-20-24/
END:VEVENT
END:VCALENDAR