BEGIN:VCALENDAR
VERSION:2.0
PRODID:-//eventon.com NONSGML v1.0//EN
CALSCALE:GREGORIAN
METHOD:PUBLISH
BEGIN:VEVENT
UID:69e50cba2e59c
DTSTAMP:20260419T171122Z
DTSTART:20241210T200000Z
DTEND:20241214T040000Z
LOCATION:
SUMMARY:4-Day Culinary Experience Elite
DESCRIPTION:Advanced Culinary and skills training for business aviation pro
 fessionals. Daily modules are designed with hands-on interactive culinary t
 raining combined with instructor lecture\,  visual presentations\,  detaile
 d manuals\,  handout materials and all needed tools to successfully complet
 e the lessons. Each class is taught by aviation industry expert Paula Kraft
  and conducted in[..]\nhttps://www.davincitraininginstitute.com/events/4-da
 y-culinary-experience-elite-dec-10-13/
URL:https://www.davincitraininginstitute.com/events/4-day-culinary-experience-elite-dec-10-13/
END:VEVENT
END:VCALENDAR