BEGIN:VCALENDAR
VERSION:2.0
PRODID:-//eventon.com NONSGML v1.0//EN
CALSCALE:GREGORIAN
METHOD:PUBLISH
BEGIN:VEVENT
UID:69e618961b05f
DTSTAMP:20260420T121414Z
DTSTART:20231007T200000Z
DTEND:20231009T040000Z
LOCATION:
SUMMARY:Service Elite - SOLD OUT
DESCRIPTION:This 2-day training program provides a thorough presentation an
 d hands-on experience preparing and serving VIPs aboard the aircraft. Addit
 ionally\,  new ideas for the cabin crew on menu planning\,  cabin staging\,
   storage\,  making beds\,  and protocols will be demonstrated for both dom
 estic and international travel. There are only a few things[..]\nhttps://ww
 w.davincitraininginstitute.com/events/service-elite-oct-7th-8th/
URL:https://www.davincitraininginstitute.com/events/service-elite-oct-7th-8th/
END:VEVENT
END:VCALENDAR