BEGIN:VCALENDAR
VERSION:2.0
PRODID:-//eventon.com NONSGML v1.0//EN
CALSCALE:GREGORIAN
METHOD:PUBLISH
BEGIN:VEVENT
UID:69e62ba368bc3
DTSTAMP:20260420T133531Z
DTSTART:20230916T200000Z
DTEND:20230918T040000Z
LOCATION:
SUMMARY:Service Elite - SOLD OUT
DESCRIPTION:This 2-day training program provides a thorough presentation an
 d hands-on experience preparing and serving VIPs aboard the aircraft. Addit
 ionally\,  new ideas for the cabin crew on menu planning\,  cabin staging\,
   storage\,  making beds\,  and protocols will be demonstrated for both dom
 estic and international travel. There are only a few things[..]\nhttps://ww
 w.davincitraininginstitute.com/events/service-elite-sept-16th-17th/
URL:https://www.davincitraininginstitute.com/events/service-elite-sept-16th-17th/
END:VEVENT
END:VCALENDAR