BEGIN:VCALENDAR
VERSION:2.0
PRODID:-//eventon.com NONSGML v1.0//EN
CALSCALE:GREGORIAN
METHOD:PUBLISH
BEGIN:VEVENT
UID:69e5852487e19
DTSTAMP:20260420T014508Z
DTSTART:20210202T200000Z
DTEND:20210206T040000Z
LOCATION:
SUMMARY:4-Day Culinary Experience Elite (SOLD OUT)
DESCRIPTION:Advanced Culinary and skills training for business aviation pro
 fessionals. Daily modules are designed with hands-on interactive culinary t
 raining combined with instructor lecture\,  visual presentations\,  detaile
 d manuals\,  handout materials and all needed tools to successfully complet
 e the lessons. Each class is taught by aviation industry expert Paula Kraft
  and conducted in[..]\nhttps://www.davincitraininginstitute.com/events/4-da
 y-culinary-experience-elite-2-feb-sold-out/
URL:https://www.davincitraininginstitute.com/events/4-day-culinary-experience-elite-2-feb-sold-out/
END:VEVENT
END:VCALENDAR